BEGIN:VCALENDAR
VERSION:2.0
CALSCALE:GREGORIAN
BEGIN:VEVENT
SUMMARY:Special class: VerwenYoga voor Rug &amp; Schouders met Leen
DTSTART;TZID=Europe/Brussels:20181101T110000
DTEND;TZID=Europe/Brussels:20181101T123000
LOCATION:Studio 1
DESCRIPTION: Deze speciale yogales is bedoeld om je bovenlichaam de nodige aandacht te geven, &#039;te verwennen&#039;.  Vaak leven we heel erg voorovergebogen en groeien we dus eigenlijk krom.  In deze yogales zal Leen je begeleiden met de nadruk op schouders, bovenrug en nek, maar ook je volledige rug.  Ze gaat van houding naar houding en zorgt ervoor dat jij ervaart welke &#039;bevrijding&#039; bepaalde oefeningen brengen.  Een yin en yang-les voor je bovenlichaam: je bouwt kracht op (yang), maar je ervaart ook veel ruimte &gt; stretch (yin).  Je gaat ongemakken tegen in je bovenrug, schouders en rug, de typische nadelen van een zittend of staand beroep.
STATUS:CONFIRMED
SEQUENCE:0
END:VEVENT
END:VCALENDAR