BEGIN:VCALENDAR
VERSION:2.0
CALSCALE:GREGORIAN
BEGIN:VEVENT
SUMMARY:Mantra meditatie - samen klank met kerst
DTSTART;TZID=Europe/Amsterdam:20251221T100000
DTEND;TZID=Europe/Amsterdam:20251221T123000
LOCATION:Zenway yogastudio
DESCRIPTION: 
STATUS:CONFIRMED
SEQUENCE:0
END:VEVENT
END:VCALENDAR