BEGIN:VCALENDAR
VERSION:2.0
CALSCALE:GREGORIAN
BEGIN:VEVENT
SUMMARY:Drop in: Yoga för kraft, energi och glädje. *Forts.nivå*
DTSTART;TZID=Europe/Stockholm:20260324T174500
DTEND;TZID=Europe/Stockholm:20260324T190000
LOCATION:Brunnsteatern, Brännavägen 1
DESCRIPTION: Här öppnar jag upp lediga platser på min kurs för regelbunden yogaträning som jag håller på tisdagar. Jag rekommenderar i första hand att du bokar kursen. Har du inte möjlighet till det, kanske på grund av skiftarbete eller många resor i tjänsten, så kan du boka in dig på enstaka träffar här i stället. 

Yogan är en fysiskt aktiv yoga, även kallad dynamisk yoga eller vinyasayoga. 
En gnutta nörderi, anatomi och en massa härliga rörelser utlovas.
STATUS:CONFIRMED
SEQUENCE:0
END:VEVENT
END:VCALENDAR