BEGIN:VCALENDAR
VERSION:2.0
CALSCALE:GREGORIAN
BEGIN:VEVENT
SUMMARY:Active Flow met Sandra
DTSTART;TZID=Europe/Amsterdam:20260507T090000
DTEND;TZID=Europe/Amsterdam:20260507T100000
LOCATION:ZYN studio | Dorpsstraat 2A Bemmel
DESCRIPTION: Een hier en daar uitdagende les om je dag sterk en toch ontspannen te beginnen.
STATUS:CONFIRMED
SEQUENCE:0
END:VEVENT
END:VCALENDAR